BEGIN:VCALENDAR
VERSION:2.0
PRODID:-//Local Thyme Restaurant - ECPv6.6.4.2//NONSGML v1.0//EN
CALSCALE:GREGORIAN
METHOD:PUBLISH
X-WR-CALNAME:Local Thyme Restaurant
X-ORIGINAL-URL:https://www.localthyme.pub
X-WR-CALDESC:Events for Local Thyme Restaurant
REFRESH-INTERVAL;VALUE=DURATION:PT1H
X-Robots-Tag:noindex
X-PUBLISHED-TTL:PT1H
BEGIN:VTIMEZONE
TZID:UTC
BEGIN:STANDARD
TZOFFSETFROM:+0000
TZOFFSETTO:+0000
TZNAME:UTC
DTSTART:20190101T000000
END:STANDARD
END:VTIMEZONE
BEGIN:VEVENT
DTSTART;TZID=UTC:20191026T190000
DTEND;TZID=UTC:20191026T230000
DTSTAMP:20260420T153008
CREATED:20190606T171559Z
LAST-MODIFIED:20190606T171559Z
UID:2722-1572116400-1572130800@www.localthyme.pub
SUMMARY:Bob Stevens
DESCRIPTION:
URL:https://www.localthyme.pub/event/bob-stevens-16/
CATEGORIES:Live Music
END:VEVENT
BEGIN:VEVENT
DTSTART;TZID=UTC:20191025T190000
DTEND;TZID=UTC:20191025T230000
DTSTAMP:20260420T153008
CREATED:20190606T171558Z
LAST-MODIFIED:20190606T171558Z
UID:2721-1572030000-1572044400@www.localthyme.pub
SUMMARY:Ben Delong
DESCRIPTION:
URL:https://www.localthyme.pub/event/ben-delong-5/
CATEGORIES:Live Music
END:VEVENT
BEGIN:VEVENT
DTSTART;TZID=UTC:20191023T183000
DTEND;TZID=UTC:20191023T223000
DTSTAMP:20260420T153008
CREATED:20190606T171558Z
LAST-MODIFIED:20190606T182050Z
UID:2720-1571855400-1571869800@www.localthyme.pub
SUMMARY:Johnny Rdriguez
DESCRIPTION:
URL:https://www.localthyme.pub/event/johnny-rdriguez/
CATEGORIES:Live Music
END:VEVENT
BEGIN:VEVENT
DTSTART;TZID=UTC:20191019T190000
DTEND;TZID=UTC:20191019T230000
DTSTAMP:20260420T153008
CREATED:20190606T171558Z
LAST-MODIFIED:20190606T171558Z
UID:2719-1571511600-1571526000@www.localthyme.pub
SUMMARY:Jeff Stewart
DESCRIPTION:
URL:https://www.localthyme.pub/event/jeff-stewart-10/
CATEGORIES:Live Music
END:VEVENT
BEGIN:VEVENT
DTSTART;TZID=UTC:20191018T190000
DTEND;TZID=UTC:20191018T230000
DTSTAMP:20260420T153008
CREATED:20190606T171558Z
LAST-MODIFIED:20190606T171558Z
UID:2718-1571425200-1571439600@www.localthyme.pub
SUMMARY:Jon and Roman
DESCRIPTION:
URL:https://www.localthyme.pub/event/jon-and-roman-6/
CATEGORIES:Live Music
END:VEVENT
BEGIN:VEVENT
DTSTART;TZID=UTC:20191016T183000
DTEND;TZID=UTC:20191016T223000
DTSTAMP:20260420T153008
CREATED:20190606T171557Z
LAST-MODIFIED:20190606T181910Z
UID:2717-1571250600-1571265000@www.localthyme.pub
SUMMARY:Nicole Kouhry
DESCRIPTION:
URL:https://www.localthyme.pub/event/nicole-kouhry-5/
CATEGORIES:Live Music
END:VEVENT
BEGIN:VEVENT
DTSTART;TZID=UTC:20191012T190000
DTEND;TZID=UTC:20191012T230000
DTSTAMP:20260420T153008
CREATED:20190606T171557Z
LAST-MODIFIED:20190606T171557Z
UID:2716-1570906800-1570921200@www.localthyme.pub
SUMMARY:Kyle White
DESCRIPTION:
URL:https://www.localthyme.pub/event/kyle-white-8/
CATEGORIES:Live Music
END:VEVENT
BEGIN:VEVENT
DTSTART;TZID=UTC:20191011T190000
DTEND;TZID=UTC:20191011T230000
DTSTAMP:20260420T153008
CREATED:20190606T171556Z
LAST-MODIFIED:20190606T171556Z
UID:2715-1570820400-1570834800@www.localthyme.pub
SUMMARY:Addison Schmidt
DESCRIPTION:
URL:https://www.localthyme.pub/event/addison-schmidt-4/
CATEGORIES:Live Music
END:VEVENT
BEGIN:VEVENT
DTSTART;TZID=UTC:20191009T183000
DTEND;TZID=UTC:20191009T223000
DTSTAMP:20260420T153008
CREATED:20190606T171556Z
LAST-MODIFIED:20190606T181842Z
UID:2714-1570645800-1570660200@www.localthyme.pub
SUMMARY:Bob Stevens
DESCRIPTION:
URL:https://www.localthyme.pub/event/bob-stevens-15/
CATEGORIES:Live Music
END:VEVENT
BEGIN:VEVENT
DTSTART;TZID=UTC:20191005T190000
DTEND;TZID=UTC:20191005T230000
DTSTAMP:20260420T153008
CREATED:20190606T171556Z
LAST-MODIFIED:20190606T182835Z
UID:2713-1570302000-1570316400@www.localthyme.pub
SUMMARY:Johnny Rodriguez
DESCRIPTION:
URL:https://www.localthyme.pub/event/johnnu-rodriguez/
CATEGORIES:Live Music
END:VEVENT
BEGIN:VEVENT
DTSTART;TZID=UTC:20191004T190000
DTEND;TZID=UTC:20191004T230000
DTSTAMP:20260420T153008
CREATED:20190606T171556Z
LAST-MODIFIED:20190606T171556Z
UID:2712-1570215600-1570230000@www.localthyme.pub
SUMMARY:Nicole Kouhry
DESCRIPTION:
URL:https://www.localthyme.pub/event/nicole-kouhry-4/
CATEGORIES:Live Music
END:VEVENT
BEGIN:VEVENT
DTSTART;TZID=UTC:20191002T183000
DTEND;TZID=UTC:20191002T223000
DTSTAMP:20260420T153008
CREATED:20190606T171555Z
LAST-MODIFIED:20190606T181814Z
UID:2711-1570041000-1570055400@www.localthyme.pub
SUMMARY:Jeff Stewart
DESCRIPTION:
URL:https://www.localthyme.pub/event/jeff-stewart-9/
CATEGORIES:Live Music
END:VEVENT
BEGIN:VEVENT
DTSTART;TZID=UTC:20190928T190000
DTEND;TZID=UTC:20190928T230000
DTSTAMP:20260420T153008
CREATED:20190606T171555Z
LAST-MODIFIED:20190606T171555Z
UID:2710-1569697200-1569711600@www.localthyme.pub
SUMMARY:Ben DeLong
DESCRIPTION:
URL:https://www.localthyme.pub/event/ben-delong-4/
CATEGORIES:Live Music
END:VEVENT
BEGIN:VEVENT
DTSTART;TZID=UTC:20190927T190000
DTEND;TZID=UTC:20190927T230000
DTSTAMP:20260420T153008
CREATED:20190606T171555Z
LAST-MODIFIED:20190606T171555Z
UID:2709-1569610800-1569625200@www.localthyme.pub
SUMMARY:Bob Stevens
DESCRIPTION:
URL:https://www.localthyme.pub/event/bob-stevens-14/
CATEGORIES:Live Music
END:VEVENT
BEGIN:VEVENT
DTSTART;TZID=UTC:20190925T183000
DTEND;TZID=UTC:20190925T223000
DTSTAMP:20260420T153008
CREATED:20190606T171555Z
LAST-MODIFIED:20190606T181407Z
UID:2708-1569436200-1569450600@www.localthyme.pub
SUMMARY:Nicole Kouhry
DESCRIPTION:
URL:https://www.localthyme.pub/event/nicole-kouhry-3/
CATEGORIES:Live Music
END:VEVENT
BEGIN:VEVENT
DTSTART;TZID=UTC:20190921T190000
DTEND;TZID=UTC:20190921T230000
DTSTAMP:20260420T153008
CREATED:20190606T171555Z
LAST-MODIFIED:20190606T171555Z
UID:2707-1569092400-1569106800@www.localthyme.pub
SUMMARY:Jon and Roman
DESCRIPTION:
URL:https://www.localthyme.pub/event/jon-and-roman-5/
CATEGORIES:Live Music
END:VEVENT
BEGIN:VEVENT
DTSTART;TZID=UTC:20190918T183000
DTEND;TZID=UTC:20190918T223000
DTSTAMP:20260420T153008
CREATED:20190606T171554Z
LAST-MODIFIED:20190606T181338Z
UID:2706-1568831400-1568845800@www.localthyme.pub
SUMMARY:Addison Schmidt
DESCRIPTION:
URL:https://www.localthyme.pub/event/addison-schmidt-3/
CATEGORIES:Live Music
END:VEVENT
BEGIN:VEVENT
DTSTART;TZID=UTC:20190913T190000
DTEND;TZID=UTC:20190913T230000
DTSTAMP:20260420T153008
CREATED:20190606T171553Z
LAST-MODIFIED:20190606T171553Z
UID:2705-1568401200-1568415600@www.localthyme.pub
SUMMARY:Jeff Stewart
DESCRIPTION:
URL:https://www.localthyme.pub/event/jeff-stewart-8/
CATEGORIES:Live Music
END:VEVENT
BEGIN:VEVENT
DTSTART;TZID=UTC:20190911T183000
DTEND;TZID=UTC:20190911T223000
DTSTAMP:20260420T153008
CREATED:20190606T171553Z
LAST-MODIFIED:20190606T181310Z
UID:2704-1568226600-1568241000@www.localthyme.pub
SUMMARY:Bob Stevens
DESCRIPTION:
URL:https://www.localthyme.pub/event/bob-stevens-13/
CATEGORIES:Live Music
END:VEVENT
BEGIN:VEVENT
DTSTART;TZID=UTC:20190904T183000
DTEND;TZID=UTC:20190904T223000
DTSTAMP:20260420T153008
CREATED:20190606T171553Z
LAST-MODIFIED:20190606T181240Z
UID:2703-1567621800-1567636200@www.localthyme.pub
SUMMARY:Johnny Rodriguez
DESCRIPTION:
URL:https://www.localthyme.pub/event/johnny-rodriguez-6/
CATEGORIES:Live Music
END:VEVENT
BEGIN:VEVENT
DTSTART;VALUE=DATE:20190902
DTEND;VALUE=DATE:20190903
DTSTAMP:20260420T153008
CREATED:20190606T183100Z
LAST-MODIFIED:20190606T183100Z
UID:2785-1567382400-1567468799@www.localthyme.pub
SUMMARY:Labor Day - Closed
DESCRIPTION:
URL:https://www.localthyme.pub/event/labor-day-closed/
CATEGORIES:Closed
END:VEVENT
BEGIN:VEVENT
DTSTART;TZID=UTC:20190830T190000
DTEND;TZID=UTC:20190830T230000
DTSTAMP:20260420T153008
CREATED:20190606T171552Z
LAST-MODIFIED:20190606T171552Z
UID:2702-1567191600-1567206000@www.localthyme.pub
SUMMARY:Jeff Stewart
DESCRIPTION:
URL:https://www.localthyme.pub/event/jeff-stewart-7/
CATEGORIES:Live Music
END:VEVENT
BEGIN:VEVENT
DTSTART;TZID=UTC:20190828T183000
DTEND;TZID=UTC:20190828T223000
DTSTAMP:20260420T153008
CREATED:20190606T171552Z
LAST-MODIFIED:20190606T181153Z
UID:2701-1567017000-1567031400@www.localthyme.pub
SUMMARY:Addison Schmidt
DESCRIPTION:
URL:https://www.localthyme.pub/event/addison-schmidt-2/
CATEGORIES:Live Music
END:VEVENT
BEGIN:VEVENT
DTSTART;TZID=UTC:20190824T190000
DTEND;TZID=UTC:20190824T230000
DTSTAMP:20260420T153008
CREATED:20190606T171551Z
LAST-MODIFIED:20190606T171551Z
UID:2700-1566673200-1566687600@www.localthyme.pub
SUMMARY:Ben DeLong
DESCRIPTION:
URL:https://www.localthyme.pub/event/ben-delong-3/
CATEGORIES:Live Music
END:VEVENT
BEGIN:VEVENT
DTSTART;TZID=UTC:20190823T190000
DTEND;TZID=UTC:20190823T230000
DTSTAMP:20260420T153008
CREATED:20190606T171551Z
LAST-MODIFIED:20190606T171551Z
UID:2699-1566586800-1566601200@www.localthyme.pub
SUMMARY:Bob Stevens
DESCRIPTION:
URL:https://www.localthyme.pub/event/bob-stevens-12/
CATEGORIES:Live Music
END:VEVENT
BEGIN:VEVENT
DTSTART;TZID=UTC:20190821T183000
DTEND;TZID=UTC:20190821T223000
DTSTAMP:20260420T153008
CREATED:20190606T171551Z
LAST-MODIFIED:20190606T181128Z
UID:2698-1566412200-1566426600@www.localthyme.pub
SUMMARY:Nicole Kouhry
DESCRIPTION:
URL:https://www.localthyme.pub/event/nicole-kouhry-2/
CATEGORIES:Live Music
END:VEVENT
BEGIN:VEVENT
DTSTART;TZID=UTC:20190816T190000
DTEND;TZID=UTC:20190816T230000
DTSTAMP:20260420T153008
CREATED:20190606T171551Z
LAST-MODIFIED:20190606T171551Z
UID:2697-1565982000-1565996400@www.localthyme.pub
SUMMARY:Jon and Roman
DESCRIPTION:
URL:https://www.localthyme.pub/event/jon-and-roman-4/
CATEGORIES:Live Music
END:VEVENT
BEGIN:VEVENT
DTSTART;TZID=UTC:20190814T183000
DTEND;TZID=UTC:20190814T223000
DTSTAMP:20260420T153008
CREATED:20190606T171550Z
LAST-MODIFIED:20190606T181058Z
UID:2696-1565807400-1565821800@www.localthyme.pub
SUMMARY:Greg Aranda
DESCRIPTION:
URL:https://www.localthyme.pub/event/greg-aranda-2/
CATEGORIES:Live Music
END:VEVENT
BEGIN:VEVENT
DTSTART;TZID=UTC:20190810T190000
DTEND;TZID=UTC:20190810T230000
DTSTAMP:20260420T153008
CREATED:20190606T171550Z
LAST-MODIFIED:20190606T171550Z
UID:2695-1565463600-1565478000@www.localthyme.pub
SUMMARY:Kyle White
DESCRIPTION:
URL:https://www.localthyme.pub/event/kyle-white-7/
CATEGORIES:Live Music
END:VEVENT
BEGIN:VEVENT
DTSTART;TZID=UTC:20190809T190000
DTEND;TZID=UTC:20190809T230000
DTSTAMP:20260420T153008
CREATED:20190606T171549Z
LAST-MODIFIED:20190606T171549Z
UID:2694-1565377200-1565391600@www.localthyme.pub
SUMMARY:Nicole Kouhry
DESCRIPTION:
URL:https://www.localthyme.pub/event/nicole-kouhry/
CATEGORIES:Live Music
END:VEVENT
END:VCALENDAR