BEGIN:VCALENDAR
VERSION:2.0
PRODID:-//Local Thyme Restaurant - ECPv6.6.4.2//NONSGML v1.0//EN
CALSCALE:GREGORIAN
METHOD:PUBLISH
X-WR-CALNAME:Local Thyme Restaurant
X-ORIGINAL-URL:https://www.localthyme.pub
X-WR-CALDESC:Events for Local Thyme Restaurant
REFRESH-INTERVAL;VALUE=DURATION:PT1H
X-Robots-Tag:noindex
X-PUBLISHED-TTL:PT1H
BEGIN:VTIMEZONE
TZID:UTC
BEGIN:STANDARD
TZOFFSETFROM:+0000
TZOFFSETTO:+0000
TZNAME:UTC
DTSTART:20190101T000000
END:STANDARD
END:VTIMEZONE
BEGIN:VEVENT
DTSTART;TZID=UTC:20191227T190000
DTEND;TZID=UTC:20191227T230000
DTSTAMP:20260424T023937
CREATED:20190606T171605Z
LAST-MODIFIED:20190606T171605Z
UID:2740-1577473200-1577487600@www.localthyme.pub
SUMMARY:Bob Stevens
DESCRIPTION:
URL:https://www.localthyme.pub/event/bob-stevens-20/
CATEGORIES:Live Music
END:VEVENT
BEGIN:VEVENT
DTSTART;TZID=UTC:20191225T000000
DTEND;TZID=UTC:20191225T120000
DTSTAMP:20260424T023937
CREATED:20190606T171607Z
LAST-MODIFIED:20190606T172441Z
UID:2742-1577232000-1577275200@www.localthyme.pub
SUMMARY:Christmas Day - Closed
DESCRIPTION:
URL:https://www.localthyme.pub/event/christmas/
CATEGORIES:Closed
END:VEVENT
BEGIN:VEVENT
DTSTART;TZID=UTC:20191223T130000
DTEND;TZID=UTC:20191223T140000
DTSTAMP:20260424T023937
CREATED:20190606T171605Z
LAST-MODIFIED:20190606T171605Z
UID:2739-1577106000-1577109600@www.localthyme.pub
SUMMARY:Ben DeLong with Santa
DESCRIPTION:
URL:https://www.localthyme.pub/event/ben-delong-with-santa/
CATEGORIES:Live Music
END:VEVENT
BEGIN:VEVENT
DTSTART;TZID=UTC:20191221T190000
DTEND;TZID=UTC:20191221T230000
DTSTAMP:20260424T023937
CREATED:20190606T171605Z
LAST-MODIFIED:20190606T171605Z
UID:2738-1576954800-1576969200@www.localthyme.pub
SUMMARY:Jon and Roman
DESCRIPTION:
URL:https://www.localthyme.pub/event/jon-and-roman-8/
CATEGORIES:Live Music
END:VEVENT
BEGIN:VEVENT
DTSTART;TZID=UTC:20191218T183000
DTEND;TZID=UTC:20191218T223000
DTSTAMP:20260424T023937
CREATED:20190606T171605Z
LAST-MODIFIED:20190606T182539Z
UID:2737-1576693800-1576708200@www.localthyme.pub
SUMMARY:Nicole Kouhry
DESCRIPTION:
URL:https://www.localthyme.pub/event/nicole-kouhry-7/
CATEGORIES:Live Music
END:VEVENT
BEGIN:VEVENT
DTSTART;TZID=UTC:20191214T190000
DTEND;TZID=UTC:20191214T230000
DTSTAMP:20260424T023937
CREATED:20190606T171604Z
LAST-MODIFIED:20190606T171604Z
UID:2736-1576350000-1576364400@www.localthyme.pub
SUMMARY:Kyle White
DESCRIPTION:
URL:https://www.localthyme.pub/event/kyle-white-10/
CATEGORIES:Live Music
END:VEVENT
BEGIN:VEVENT
DTSTART;TZID=UTC:20191213T190000
DTEND;TZID=UTC:20191213T230000
DTSTAMP:20260424T023937
CREATED:20190606T171604Z
LAST-MODIFIED:20190606T171604Z
UID:2735-1576263600-1576278000@www.localthyme.pub
SUMMARY:Ben Delong
DESCRIPTION:
URL:https://www.localthyme.pub/event/ben-delong-7/
CATEGORIES:Live Music
END:VEVENT
BEGIN:VEVENT
DTSTART;TZID=UTC:20191211T183000
DTEND;TZID=UTC:20191211T223000
DTSTAMP:20260424T023937
CREATED:20190606T171603Z
LAST-MODIFIED:20190606T182501Z
UID:2734-1576089000-1576103400@www.localthyme.pub
SUMMARY:Bob Stevens
DESCRIPTION:
URL:https://www.localthyme.pub/event/bob-stevens-19/
CATEGORIES:Live Music
END:VEVENT
BEGIN:VEVENT
DTSTART;TZID=UTC:20191207T190000
DTEND;TZID=UTC:20191207T230000
DTSTAMP:20260424T023937
CREATED:20190606T171603Z
LAST-MODIFIED:20190606T171603Z
UID:2733-1575745200-1575759600@www.localthyme.pub
SUMMARY:Jeff Stewart
DESCRIPTION:
URL:https://www.localthyme.pub/event/jeff-stewart-12/
CATEGORIES:Live Music
END:VEVENT
BEGIN:VEVENT
DTSTART;TZID=UTC:20191206T190000
DTEND;TZID=UTC:20191206T230000
DTSTAMP:20260424T023937
CREATED:20190606T171603Z
LAST-MODIFIED:20190606T171603Z
UID:2732-1575658800-1575673200@www.localthyme.pub
SUMMARY:Addison Schmidt
DESCRIPTION:
URL:https://www.localthyme.pub/event/addison-schmidt-6/
CATEGORIES:Live Music
END:VEVENT
BEGIN:VEVENT
DTSTART;TZID=UTC:20191128T000000
DTEND;TZID=UTC:20191128T120000
DTSTAMP:20260424T023937
CREATED:20190606T171607Z
LAST-MODIFIED:20190606T171607Z
UID:2744-1574899200-1574942400@www.localthyme.pub
SUMMARY:Thanksgiving
DESCRIPTION:
URL:https://www.localthyme.pub/event/thanksgiving/
CATEGORIES:Closed
END:VEVENT
BEGIN:VEVENT
DTSTART;TZID=UTC:20191123T190000
DTEND;TZID=UTC:20191123T230000
DTSTAMP:20260424T023937
CREATED:20190606T171602Z
LAST-MODIFIED:20190606T171602Z
UID:2731-1574535600-1574550000@www.localthyme.pub
SUMMARY:Ben Delong
DESCRIPTION:
URL:https://www.localthyme.pub/event/ben-delong-6/
CATEGORIES:Live Music
END:VEVENT
BEGIN:VEVENT
DTSTART;TZID=UTC:20191122T190000
DTEND;TZID=UTC:20191122T230000
DTSTAMP:20260424T023937
CREATED:20190606T171602Z
LAST-MODIFIED:20190606T171602Z
UID:2730-1574449200-1574463600@www.localthyme.pub
SUMMARY:Bob Stevens
DESCRIPTION:
URL:https://www.localthyme.pub/event/bob-stevens-18/
CATEGORIES:Live Music
END:VEVENT
BEGIN:VEVENT
DTSTART;TZID=UTC:20191120T183000
DTEND;TZID=UTC:20191120T223000
DTSTAMP:20260424T023937
CREATED:20190606T171602Z
LAST-MODIFIED:20190606T182412Z
UID:2729-1574274600-1574289000@www.localthyme.pub
SUMMARY:Nicole Kouhry
DESCRIPTION:
URL:https://www.localthyme.pub/event/nicole-kouhry-6/
CATEGORIES:Live Music
END:VEVENT
BEGIN:VEVENT
DTSTART;TZID=UTC:20191116T190000
DTEND;TZID=UTC:20191116T230000
DTSTAMP:20260424T023937
CREATED:20190606T171601Z
LAST-MODIFIED:20190606T171601Z
UID:2728-1573930800-1573945200@www.localthyme.pub
SUMMARY:Kyle White
DESCRIPTION:
URL:https://www.localthyme.pub/event/kyle-white-9/
CATEGORIES:Live Music
END:VEVENT
BEGIN:VEVENT
DTSTART;TZID=UTC:20191113T183000
DTEND;TZID=UTC:20191113T223000
DTSTAMP:20260424T023937
CREATED:20190606T171601Z
LAST-MODIFIED:20190606T182200Z
UID:2727-1573669800-1573684200@www.localthyme.pub
SUMMARY:Addison Schmidt
DESCRIPTION:
URL:https://www.localthyme.pub/event/addison-schmidt-5/
CATEGORIES:Live Music
END:VEVENT
BEGIN:VEVENT
DTSTART;TZID=UTC:20191109T190000
DTEND;TZID=UTC:20191109T230000
DTSTAMP:20260424T023937
CREATED:20190606T171600Z
LAST-MODIFIED:20190606T171600Z
UID:2726-1573326000-1573340400@www.localthyme.pub
SUMMARY:Jon and Roman
DESCRIPTION:
URL:https://www.localthyme.pub/event/jon-and-roman-7/
CATEGORIES:Live Music
END:VEVENT
BEGIN:VEVENT
DTSTART;TZID=UTC:20191108T190000
DTEND;TZID=UTC:20191108T230000
DTSTAMP:20260424T023937
CREATED:20190606T171600Z
LAST-MODIFIED:20190606T171600Z
UID:2725-1573239600-1573254000@www.localthyme.pub
SUMMARY:Jeff Stewart
DESCRIPTION:
URL:https://www.localthyme.pub/event/jeff-stewart-11/
CATEGORIES:Live Music
END:VEVENT
BEGIN:VEVENT
DTSTART;TZID=UTC:20191106T183000
DTEND;TZID=UTC:20191106T223000
DTSTAMP:20260424T023937
CREATED:20190606T171600Z
LAST-MODIFIED:20190606T182329Z
UID:2724-1573065000-1573079400@www.localthyme.pub
SUMMARY:Bob Stevens
DESCRIPTION:
URL:https://www.localthyme.pub/event/bob-stevens-17/
CATEGORIES:Live Music
END:VEVENT
BEGIN:VEVENT
DTSTART;TZID=UTC:20191101T190000
DTEND;TZID=UTC:20191101T230000
DTSTAMP:20260424T023937
CREATED:20190606T171559Z
LAST-MODIFIED:20190606T171559Z
UID:2723-1572634800-1572649200@www.localthyme.pub
SUMMARY:Chris Knopp
DESCRIPTION:
URL:https://www.localthyme.pub/event/chris-knopp-3/
CATEGORIES:Live Music
END:VEVENT
BEGIN:VEVENT
DTSTART;TZID=UTC:20191026T190000
DTEND;TZID=UTC:20191026T230000
DTSTAMP:20260424T023937
CREATED:20190606T171559Z
LAST-MODIFIED:20190606T171559Z
UID:2722-1572116400-1572130800@www.localthyme.pub
SUMMARY:Bob Stevens
DESCRIPTION:
URL:https://www.localthyme.pub/event/bob-stevens-16/
CATEGORIES:Live Music
END:VEVENT
BEGIN:VEVENT
DTSTART;TZID=UTC:20191025T190000
DTEND;TZID=UTC:20191025T230000
DTSTAMP:20260424T023937
CREATED:20190606T171558Z
LAST-MODIFIED:20190606T171558Z
UID:2721-1572030000-1572044400@www.localthyme.pub
SUMMARY:Ben Delong
DESCRIPTION:
URL:https://www.localthyme.pub/event/ben-delong-5/
CATEGORIES:Live Music
END:VEVENT
BEGIN:VEVENT
DTSTART;TZID=UTC:20191023T183000
DTEND;TZID=UTC:20191023T223000
DTSTAMP:20260424T023937
CREATED:20190606T171558Z
LAST-MODIFIED:20190606T182050Z
UID:2720-1571855400-1571869800@www.localthyme.pub
SUMMARY:Johnny Rdriguez
DESCRIPTION:
URL:https://www.localthyme.pub/event/johnny-rdriguez/
CATEGORIES:Live Music
END:VEVENT
BEGIN:VEVENT
DTSTART;TZID=UTC:20191019T190000
DTEND;TZID=UTC:20191019T230000
DTSTAMP:20260424T023937
CREATED:20190606T171558Z
LAST-MODIFIED:20190606T171558Z
UID:2719-1571511600-1571526000@www.localthyme.pub
SUMMARY:Jeff Stewart
DESCRIPTION:
URL:https://www.localthyme.pub/event/jeff-stewart-10/
CATEGORIES:Live Music
END:VEVENT
BEGIN:VEVENT
DTSTART;TZID=UTC:20191018T190000
DTEND;TZID=UTC:20191018T230000
DTSTAMP:20260424T023937
CREATED:20190606T171558Z
LAST-MODIFIED:20190606T171558Z
UID:2718-1571425200-1571439600@www.localthyme.pub
SUMMARY:Jon and Roman
DESCRIPTION:
URL:https://www.localthyme.pub/event/jon-and-roman-6/
CATEGORIES:Live Music
END:VEVENT
BEGIN:VEVENT
DTSTART;TZID=UTC:20191016T183000
DTEND;TZID=UTC:20191016T223000
DTSTAMP:20260424T023937
CREATED:20190606T171557Z
LAST-MODIFIED:20190606T181910Z
UID:2717-1571250600-1571265000@www.localthyme.pub
SUMMARY:Nicole Kouhry
DESCRIPTION:
URL:https://www.localthyme.pub/event/nicole-kouhry-5/
CATEGORIES:Live Music
END:VEVENT
BEGIN:VEVENT
DTSTART;TZID=UTC:20191012T190000
DTEND;TZID=UTC:20191012T230000
DTSTAMP:20260424T023937
CREATED:20190606T171557Z
LAST-MODIFIED:20190606T171557Z
UID:2716-1570906800-1570921200@www.localthyme.pub
SUMMARY:Kyle White
DESCRIPTION:
URL:https://www.localthyme.pub/event/kyle-white-8/
CATEGORIES:Live Music
END:VEVENT
BEGIN:VEVENT
DTSTART;TZID=UTC:20191011T190000
DTEND;TZID=UTC:20191011T230000
DTSTAMP:20260424T023937
CREATED:20190606T171556Z
LAST-MODIFIED:20190606T171556Z
UID:2715-1570820400-1570834800@www.localthyme.pub
SUMMARY:Addison Schmidt
DESCRIPTION:
URL:https://www.localthyme.pub/event/addison-schmidt-4/
CATEGORIES:Live Music
END:VEVENT
BEGIN:VEVENT
DTSTART;TZID=UTC:20191009T183000
DTEND;TZID=UTC:20191009T223000
DTSTAMP:20260424T023937
CREATED:20190606T171556Z
LAST-MODIFIED:20190606T181842Z
UID:2714-1570645800-1570660200@www.localthyme.pub
SUMMARY:Bob Stevens
DESCRIPTION:
URL:https://www.localthyme.pub/event/bob-stevens-15/
CATEGORIES:Live Music
END:VEVENT
BEGIN:VEVENT
DTSTART;TZID=UTC:20191005T190000
DTEND;TZID=UTC:20191005T230000
DTSTAMP:20260424T023937
CREATED:20190606T171556Z
LAST-MODIFIED:20190606T182835Z
UID:2713-1570302000-1570316400@www.localthyme.pub
SUMMARY:Johnny Rodriguez
DESCRIPTION:
URL:https://www.localthyme.pub/event/johnnu-rodriguez/
CATEGORIES:Live Music
END:VEVENT
END:VCALENDAR